BEGIN:VCALENDAR
VERSION:2.0
PRODID:-//Gata Brass Band - ECPv5.4.0//NONSGML v1.0//EN
CALSCALE:GREGORIAN
METHOD:PUBLISH
X-WR-CALNAME:Gata Brass Band
X-ORIGINAL-URL:https://gatabrassband.com
X-WR-CALDESC:Eventos para Gata Brass Band
BEGIN:VTIMEZONE
TZID:Europe/Madrid
BEGIN:DAYLIGHT
TZOFFSETFROM:+0100
TZOFFSETTO:+0200
TZNAME:CEST
DTSTART:20230326T010000
END:DAYLIGHT
BEGIN:STANDARD
TZOFFSETFROM:+0200
TZOFFSETTO:+0100
TZNAME:CET
DTSTART:20231029T010000
END:STANDARD
END:VTIMEZONE
BEGIN:VEVENT
DTSTART;VALUE=DATE:20230321
DTEND;VALUE=DATE:20230322
DTSTAMP:20260423T104441
CREATED:20230524T124314Z
LAST-MODIFIED:20230524T124314Z
UID:2912-1679356800-1679443199@gatabrassband.com
SUMMARY:Almería (CEIP Mar Mediterráneo) – Concierto Didáctico «Sin Funk No Hay Paraíso»
DESCRIPTION:
URL:https://gatabrassband.com/evento/almeria-ceip-mar-mediterraneo-concierto-didactico-sin-funk-no-hay-paraiso/
CATEGORIES:Sin Funk No Hay Paraíso
END:VEVENT
END:VCALENDAR