BEGIN:VCALENDAR
VERSION:2.0
PRODID:-//Gata Brass Band - ECPv5.4.0//NONSGML v1.0//EN
CALSCALE:GREGORIAN
METHOD:PUBLISH
X-WR-CALNAME:Gata Brass Band
X-ORIGINAL-URL:https://gatabrassband.com
X-WR-CALDESC:Eventos para Gata Brass Band
BEGIN:VTIMEZONE
TZID:Europe/Madrid
BEGIN:DAYLIGHT
TZOFFSETFROM:+0100
TZOFFSETTO:+0200
TZNAME:CEST
DTSTART:20230326T010000
END:DAYLIGHT
BEGIN:STANDARD
TZOFFSETFROM:+0200
TZOFFSETTO:+0100
TZNAME:CET
DTSTART:20231029T010000
END:STANDARD
END:VTIMEZONE
BEGIN:VEVENT
DTSTART;VALUE=DATE:20230422
DTEND;VALUE=DATE:20230423
DTSTAMP:20260423T121745
CREATED:20230524T124418Z
LAST-MODIFIED:20230524T124821Z
UID:2914-1682121600-1682207999@gatabrassband.com
SUMMARY:Sorbas (Festival del Agua) - «Dakota & Gata Brass Band»
DESCRIPTION:
URL:https://gatabrassband.com/evento/sorbas-festival-del-agua/
CATEGORIES:Dakota & Gata Brass Band
END:VEVENT
END:VCALENDAR