BEGIN:VCALENDAR
VERSION:2.0
PRODID:-//Gata Brass Band - ECPv5.4.0//NONSGML v1.0//EN
CALSCALE:GREGORIAN
METHOD:PUBLISH
X-WR-CALNAME:Gata Brass Band
X-ORIGINAL-URL:https://gatabrassband.com
X-WR-CALDESC:Eventos para Gata Brass Band
BEGIN:VTIMEZONE
TZID:Europe/Madrid
BEGIN:DAYLIGHT
TZOFFSETFROM:+0100
TZOFFSETTO:+0200
TZNAME:CEST
DTSTART:20240331T010000
END:DAYLIGHT
BEGIN:STANDARD
TZOFFSETFROM:+0200
TZOFFSETTO:+0100
TZNAME:CET
DTSTART:20241027T010000
END:STANDARD
END:VTIMEZONE
BEGIN:VEVENT
DTSTART;VALUE=DATE:20240210
DTEND;VALUE=DATE:20240211
DTSTAMP:20260423T103810
CREATED:20240222T122126Z
LAST-MODIFIED:20240222T122126Z
UID:3700-1707523200-1707609599@gatabrassband.com
SUMMARY:V Django Mardi Gras Festival (Almería)
DESCRIPTION:
URL:https://gatabrassband.com/evento/v-django-mardi-gras-festival-almeria/
CATEGORIES:Beatbox & Brass,Pasacalles
END:VEVENT
END:VCALENDAR